BEGIN:VCALENDAR
VERSION:2.0
PRODID:-//Chapel Street Players - ECPv6.11.2//NONSGML v1.0//EN
CALSCALE:GREGORIAN
METHOD:PUBLISH
X-ORIGINAL-URL:https://chapelstreetplayers.org
X-WR-CALDESC:Events for Chapel Street Players
REFRESH-INTERVAL;VALUE=DURATION:PT1H
X-Robots-Tag:noindex
X-PUBLISHED-TTL:PT1H
BEGIN:VTIMEZONE
TZID:America/New_York
BEGIN:DAYLIGHT
TZOFFSETFROM:-0500
TZOFFSETTO:-0400
TZNAME:EDT
DTSTART:20250309T070000
END:DAYLIGHT
BEGIN:STANDARD
TZOFFSETFROM:-0400
TZOFFSETTO:-0500
TZNAME:EST
DTSTART:20251102T060000
END:STANDARD
END:VTIMEZONE
BEGIN:VEVENT
DTSTART;TZID=America/New_York:20250919T200000
DTEND;TZID=America/New_York:20250919T223000
DTSTAMP:20260421T125410
CREATED:20250905T211537Z
LAST-MODIFIED:20250906T205529Z
UID:16615-1758312000-1758321000@chapelstreetplayers.org
SUMMARY:August: Osage County
DESCRIPTION:A missing father\, a pill-popping mother and three sisters harboring dubious little secrets. When the large Weston family unexpectedly reunites after Dad disappears\, their Oklahoma family homestead explodes in a maelstrom of repressed truths and unsettling mysteries. Mix in Violet\, the drugged-up\, scathingly acidic matriarch\, and you’ve got a major play that unflinchingly—and uproariously—exposes the dark side of the Midwestern American family. \nContent Advisory: August: Osage County contains strong language and mature subject matter\, including themes of alcoholism\, addiction\, abuse\, violence\, and family conflict.
URL:https://chapelstreetplayers.org/event/august-osage-county/
LOCATION:Chapel Street Players\, 643 Creek view Rd.\, Newark\, 19711\, United States
CATEGORIES:CSP Productions
ATTACH;FMTTYPE=image/png:https://chapelstreetplayers.org/wp-content/uploads/2025/09/2025-B01.png
END:VEVENT
BEGIN:VEVENT
DTSTART;TZID=America/New_York:20250920T200000
DTEND;TZID=America/New_York:20250920T223000
DTSTAMP:20260421T125410
CREATED:20250907T005023Z
LAST-MODIFIED:20250907T005119Z
UID:16628-1758398400-1758407400@chapelstreetplayers.org
SUMMARY:August: Osage County
DESCRIPTION:A missing father\, a pill-popping mother and three sisters harboring dubious little secrets. When the large Weston family unexpectedly reunites after Dad disappears\, their Oklahoma family homestead explodes in a maelstrom of repressed truths and unsettling mysteries. Mix in Violet\, the drugged-up\, scathingly acidic matriarch\, and you’ve got a major play that unflinchingly—and uproariously—exposes the dark side of the Midwestern American family.\nContent Advisory: August: Osage County contains strong language and mature subject matter\, including themes of alcoholism\, addiction\, abuse\, violence\, and family conflict.
URL:https://chapelstreetplayers.org/event/august-osage-county-2/
LOCATION:Chapel Street Players\, 643 Creek view Rd.\, Newark\, 19711\, United States
CATEGORIES:CSP Productions
ATTACH;FMTTYPE=image/png:https://chapelstreetplayers.org/wp-content/uploads/2025/09/2025-B01.png
END:VEVENT
BEGIN:VEVENT
DTSTART;TZID=America/New_York:20250921T140000
DTEND;TZID=America/New_York:20250921T163000
DTSTAMP:20260421T125410
CREATED:20250907T005023Z
LAST-MODIFIED:20250907T005257Z
UID:16629-1758463200-1758472200@chapelstreetplayers.org
SUMMARY:August: Osage County
DESCRIPTION:A missing father\, a pill-popping mother and three sisters harboring dubious little secrets. When the large Weston family unexpectedly reunites after Dad disappears\, their Oklahoma family homestead explodes in a maelstrom of repressed truths and unsettling mysteries. Mix in Violet\, the drugged-up\, scathingly acidic matriarch\, and you’ve got a major play that unflinchingly—and uproariously—exposes the dark side of the Midwestern American family.\nContent Advisory: August: Osage County contains strong language and mature subject matter\, including themes of alcoholism\, addiction\, abuse\, violence\, and family conflict.
URL:https://chapelstreetplayers.org/event/august-osage-county-3/
LOCATION:Chapel Street Players\, 643 Creek view Rd.\, Newark\, 19711\, United States
CATEGORIES:CSP Productions
ATTACH;FMTTYPE=image/png:https://chapelstreetplayers.org/wp-content/uploads/2025/09/2025-B01.png
END:VEVENT
BEGIN:VEVENT
DTSTART;TZID=America/New_York:20250925T200000
DTEND;TZID=America/New_York:20250925T223000
DTSTAMP:20260421T125410
CREATED:20250907T005023Z
LAST-MODIFIED:20250907T005310Z
UID:16630-1758830400-1758839400@chapelstreetplayers.org
SUMMARY:August: Osage County
DESCRIPTION:A missing father\, a pill-popping mother and three sisters harboring dubious little secrets. When the large Weston family unexpectedly reunites after Dad disappears\, their Oklahoma family homestead explodes in a maelstrom of repressed truths and unsettling mysteries. Mix in Violet\, the drugged-up\, scathingly acidic matriarch\, and you’ve got a major play that unflinchingly—and uproariously—exposes the dark side of the Midwestern American family.\nContent Advisory: August: Osage County contains strong language and mature subject matter\, including themes of alcoholism\, addiction\, abuse\, violence\, and family conflict.
URL:https://chapelstreetplayers.org/event/august-osage-county-4/
LOCATION:Chapel Street Players\, 643 Creek view Rd.\, Newark\, 19711\, United States
CATEGORIES:CSP Productions
ATTACH;FMTTYPE=image/png:https://chapelstreetplayers.org/wp-content/uploads/2025/09/2025-B01.png
END:VEVENT
BEGIN:VEVENT
DTSTART;TZID=America/New_York:20250926T200000
DTEND;TZID=America/New_York:20250926T223000
DTSTAMP:20260421T125410
CREATED:20250907T005024Z
LAST-MODIFIED:20250907T005322Z
UID:16631-1758916800-1758925800@chapelstreetplayers.org
SUMMARY:August: Osage County
DESCRIPTION:A missing father\, a pill-popping mother and three sisters harboring dubious little secrets. When the large Weston family unexpectedly reunites after Dad disappears\, their Oklahoma family homestead explodes in a maelstrom of repressed truths and unsettling mysteries. Mix in Violet\, the drugged-up\, scathingly acidic matriarch\, and you’ve got a major play that unflinchingly—and uproariously—exposes the dark side of the Midwestern American family.\nContent Advisory: August: Osage County contains strong language and mature subject matter\, including themes of alcoholism\, addiction\, abuse\, violence\, and family conflict.
URL:https://chapelstreetplayers.org/event/august-osage-county-5/
LOCATION:Chapel Street Players\, 643 Creek view Rd.\, Newark\, 19711\, United States
CATEGORIES:CSP Productions
ATTACH;FMTTYPE=image/png:https://chapelstreetplayers.org/wp-content/uploads/2025/09/2025-B01.png
END:VEVENT
BEGIN:VEVENT
DTSTART;TZID=America/New_York:20250927T140000
DTEND;TZID=America/New_York:20250927T163000
DTSTAMP:20260421T125410
CREATED:20250907T005028Z
LAST-MODIFIED:20250907T005337Z
UID:16633-1758981600-1758990600@chapelstreetplayers.org
SUMMARY:August: Osage County
DESCRIPTION:A missing father\, a pill-popping mother and three sisters harboring dubious little secrets. When the large Weston family unexpectedly reunites after Dad disappears\, their Oklahoma family homestead explodes in a maelstrom of repressed truths and unsettling mysteries. Mix in Violet\, the drugged-up\, scathingly acidic matriarch\, and you’ve got a major play that unflinchingly—and uproariously—exposes the dark side of the Midwestern American family.\nContent Advisory: August: Osage County contains strong language and mature subject matter\, including themes of alcoholism\, addiction\, abuse\, violence\, and family conflict.
URL:https://chapelstreetplayers.org/event/august-osage-county-7/
LOCATION:Chapel Street Players\, 643 Creek view Rd.\, Newark\, 19711\, United States
CATEGORIES:CSP Productions
ATTACH;FMTTYPE=image/png:https://chapelstreetplayers.org/wp-content/uploads/2025/09/2025-B01.png
END:VEVENT
BEGIN:VEVENT
DTSTART;TZID=America/New_York:20250927T200000
DTEND;TZID=America/New_York:20250927T223000
DTSTAMP:20260421T125410
CREATED:20250907T005024Z
LAST-MODIFIED:20250907T005352Z
UID:16632-1759003200-1759012200@chapelstreetplayers.org
SUMMARY:August: Osage County
DESCRIPTION:A missing father\, a pill-popping mother and three sisters harboring dubious little secrets. When the large Weston family unexpectedly reunites after Dad disappears\, their Oklahoma family homestead explodes in a maelstrom of repressed truths and unsettling mysteries. Mix in Violet\, the drugged-up\, scathingly acidic matriarch\, and you’ve got a major play that unflinchingly—and uproariously—exposes the dark side of the Midwestern American family.\nContent Advisory: August: Osage County contains strong language and mature subject matter\, including themes of alcoholism\, addiction\, abuse\, violence\, and family conflict.
URL:https://chapelstreetplayers.org/event/august-osage-county-6/
LOCATION:Chapel Street Players\, 643 Creek view Rd.\, Newark\, 19711\, United States
CATEGORIES:CSP Productions
ATTACH;FMTTYPE=image/png:https://chapelstreetplayers.org/wp-content/uploads/2025/09/2025-B01.png
END:VEVENT
END:VCALENDAR