BEGIN:VCALENDAR
VERSION:2.0
PRODID:-//Chapel Street Players - ECPv6.11.2//NONSGML v1.0//EN
CALSCALE:GREGORIAN
METHOD:PUBLISH
X-WR-CALNAME:Chapel Street Players
X-ORIGINAL-URL:https://chapelstreetplayers.org
X-WR-CALDESC:Events for Chapel Street Players
REFRESH-INTERVAL;VALUE=DURATION:PT1H
X-Robots-Tag:noindex
X-PUBLISHED-TTL:PT1H
BEGIN:VTIMEZONE
TZID:America/New_York
BEGIN:DAYLIGHT
TZOFFSETFROM:-0500
TZOFFSETTO:-0400
TZNAME:EDT
DTSTART:20260308T070000
END:DAYLIGHT
BEGIN:STANDARD
TZOFFSETFROM:-0400
TZOFFSETTO:-0500
TZNAME:EST
DTSTART:20261101T060000
END:STANDARD
END:VTIMEZONE
BEGIN:VEVENT
DTSTART;TZID=America/New_York:20260612T200000
DTEND;TZID=America/New_York:20260612T223000
DTSTAMP:20260421T044335
CREATED:20251120T212508Z
LAST-MODIFIED:20251120T212508Z
UID:16832-1781294400-1781303400@chapelstreetplayers.org
SUMMARY:Rock of Ages
DESCRIPTION:It’s the tail end of the big\, bad 1980s in Hollywood\, and the party has been raging hard. Aqua Net\, Lycra\, lace and liquor flow freely at one of the Sunset Strip’s last legendary venues\, a place where sex machine Stacee Jaxx takes the stage and scantily clad groupies line up to turn their fantasies into reality. Amidst the madness\, aspiring rock star (and resident toilet cleaner) Drew longs to take the stage as the next big thing (and longs for small-town girl Sherri\, fresh off the bus from Kansas with stars in her eyes). But the rock ’n’ roll fairy tale is about to end when German developers sweep into town with plans to turn the fabled Strip into just another capitalist strip mall. Can Drew\, Sherri and the gang save the strip – and themselves – before it’s too late? Only the music of hit bands Styx\, Journey\, Bon Jovi\, Whitesnake and more hold the answer.
URL:https://chapelstreetplayers.org/event/rock-of-ages/
LOCATION:Chapel Street Players\, 643 Creek view Rd.\, Newark\, 19711\, United States
CATEGORIES:CSP Production,Fundraiser
ATTACH;FMTTYPE=image/png:https://chapelstreetplayers.org/wp-content/uploads/2025/11/202505-b.png
END:VEVENT
BEGIN:VEVENT
DTSTART;TZID=America/New_York:20260613T200000
DTEND;TZID=America/New_York:20260613T223000
DTSTAMP:20260421T044335
CREATED:20251120T212510Z
LAST-MODIFIED:20251120T212510Z
UID:16833-1781380800-1781389800@chapelstreetplayers.org
SUMMARY:Rock of Ages
DESCRIPTION:It’s the tail end of the big\, bad 1980s in Hollywood\, and the party has been raging hard. Aqua Net\, Lycra\, lace and liquor flow freely at one of the Sunset Strip’s last legendary venues\, a place where sex machine Stacee Jaxx takes the stage and scantily clad groupies line up to turn their fantasies into reality. Amidst the madness\, aspiring rock star (and resident toilet cleaner) Drew longs to take the stage as the next big thing (and longs for small-town girl Sherri\, fresh off the bus from Kansas with stars in her eyes). But the rock ’n’ roll fairy tale is about to end when German developers sweep into town with plans to turn the fabled Strip into just another capitalist strip mall. Can Drew\, Sherri and the gang save the strip – and themselves – before it’s too late? Only the music of hit bands Styx\, Journey\, Bon Jovi\, Whitesnake and more hold the answer.
URL:https://chapelstreetplayers.org/event/rock-of-ages-2/
LOCATION:Chapel Street Players\, 643 Creek view Rd.\, Newark\, 19711\, United States
CATEGORIES:CSP Production,Fundraiser
ATTACH;FMTTYPE=image/png:https://chapelstreetplayers.org/wp-content/uploads/2025/11/202505-b.png
END:VEVENT
BEGIN:VEVENT
DTSTART;TZID=America/New_York:20260614T140000
DTEND;TZID=America/New_York:20260614T163000
DTSTAMP:20260421T044335
CREATED:20251120T212511Z
LAST-MODIFIED:20251120T212511Z
UID:16834-1781445600-1781454600@chapelstreetplayers.org
SUMMARY:Rock of Ages
DESCRIPTION:It’s the tail end of the big\, bad 1980s in Hollywood\, and the party has been raging hard. Aqua Net\, Lycra\, lace and liquor flow freely at one of the Sunset Strip’s last legendary venues\, a place where sex machine Stacee Jaxx takes the stage and scantily clad groupies line up to turn their fantasies into reality. Amidst the madness\, aspiring rock star (and resident toilet cleaner) Drew longs to take the stage as the next big thing (and longs for small-town girl Sherri\, fresh off the bus from Kansas with stars in her eyes). But the rock ’n’ roll fairy tale is about to end when German developers sweep into town with plans to turn the fabled Strip into just another capitalist strip mall. Can Drew\, Sherri and the gang save the strip – and themselves – before it’s too late? Only the music of hit bands Styx\, Journey\, Bon Jovi\, Whitesnake and more hold the answer.
URL:https://chapelstreetplayers.org/event/rock-of-ages-3/
LOCATION:Chapel Street Players\, 643 Creek view Rd.\, Newark\, 19711\, United States
CATEGORIES:CSP Production,Fundraiser
ATTACH;FMTTYPE=image/png:https://chapelstreetplayers.org/wp-content/uploads/2025/11/202505-b.png
END:VEVENT
BEGIN:VEVENT
DTSTART;TZID=America/New_York:20260619T200000
DTEND;TZID=America/New_York:20260619T223000
DTSTAMP:20260421T044335
CREATED:20251120T212513Z
LAST-MODIFIED:20251120T212513Z
UID:16835-1781899200-1781908200@chapelstreetplayers.org
SUMMARY:Rock of Ages
DESCRIPTION:It’s the tail end of the big\, bad 1980s in Hollywood\, and the party has been raging hard. Aqua Net\, Lycra\, lace and liquor flow freely at one of the Sunset Strip’s last legendary venues\, a place where sex machine Stacee Jaxx takes the stage and scantily clad groupies line up to turn their fantasies into reality. Amidst the madness\, aspiring rock star (and resident toilet cleaner) Drew longs to take the stage as the next big thing (and longs for small-town girl Sherri\, fresh off the bus from Kansas with stars in her eyes). But the rock ’n’ roll fairy tale is about to end when German developers sweep into town with plans to turn the fabled Strip into just another capitalist strip mall. Can Drew\, Sherri and the gang save the strip – and themselves – before it’s too late? Only the music of hit bands Styx\, Journey\, Bon Jovi\, Whitesnake and more hold the answer.
URL:https://chapelstreetplayers.org/event/rock-of-ages-4/
LOCATION:Chapel Street Players\, 643 Creek view Rd.\, Newark\, 19711\, United States
CATEGORIES:CSP Production,Fundraiser
ATTACH;FMTTYPE=image/png:https://chapelstreetplayers.org/wp-content/uploads/2025/11/202505-b.png
END:VEVENT
BEGIN:VEVENT
DTSTART;TZID=America/New_York:20260620T200000
DTEND;TZID=America/New_York:20260620T223000
DTSTAMP:20260421T044335
CREATED:20251120T212515Z
LAST-MODIFIED:20251120T212515Z
UID:16836-1781985600-1781994600@chapelstreetplayers.org
SUMMARY:Rock of Ages
DESCRIPTION:It’s the tail end of the big\, bad 1980s in Hollywood\, and the party has been raging hard. Aqua Net\, Lycra\, lace and liquor flow freely at one of the Sunset Strip’s last legendary venues\, a place where sex machine Stacee Jaxx takes the stage and scantily clad groupies line up to turn their fantasies into reality. Amidst the madness\, aspiring rock star (and resident toilet cleaner) Drew longs to take the stage as the next big thing (and longs for small-town girl Sherri\, fresh off the bus from Kansas with stars in her eyes). But the rock ’n’ roll fairy tale is about to end when German developers sweep into town with plans to turn the fabled Strip into just another capitalist strip mall. Can Drew\, Sherri and the gang save the strip – and themselves – before it’s too late? Only the music of hit bands Styx\, Journey\, Bon Jovi\, Whitesnake and more hold the answer.
URL:https://chapelstreetplayers.org/event/rock-of-ages-5/
LOCATION:Chapel Street Players\, 643 Creek view Rd.\, Newark\, 19711\, United States
CATEGORIES:CSP Production,Fundraiser
ATTACH;FMTTYPE=image/png:https://chapelstreetplayers.org/wp-content/uploads/2025/11/202505-b.png
END:VEVENT
BEGIN:VEVENT
DTSTART;TZID=America/New_York:20260621T140000
DTEND;TZID=America/New_York:20260621T163000
DTSTAMP:20260421T044335
CREATED:20251120T212520Z
LAST-MODIFIED:20251120T212520Z
UID:16837-1782050400-1782059400@chapelstreetplayers.org
SUMMARY:Rock of Ages
DESCRIPTION:It’s the tail end of the big\, bad 1980s in Hollywood\, and the party has been raging hard. Aqua Net\, Lycra\, lace and liquor flow freely at one of the Sunset Strip’s last legendary venues\, a place where sex machine Stacee Jaxx takes the stage and scantily clad groupies line up to turn their fantasies into reality. Amidst the madness\, aspiring rock star (and resident toilet cleaner) Drew longs to take the stage as the next big thing (and longs for small-town girl Sherri\, fresh off the bus from Kansas with stars in her eyes). But the rock ’n’ roll fairy tale is about to end when German developers sweep into town with plans to turn the fabled Strip into just another capitalist strip mall. Can Drew\, Sherri and the gang save the strip – and themselves – before it’s too late? Only the music of hit bands Styx\, Journey\, Bon Jovi\, Whitesnake and more hold the answer.
URL:https://chapelstreetplayers.org/event/rock-of-ages-6/
LOCATION:Chapel Street Players\, 643 Creek view Rd.\, Newark\, 19711\, United States
CATEGORIES:CSP Production,Fundraiser
ATTACH;FMTTYPE=image/png:https://chapelstreetplayers.org/wp-content/uploads/2025/11/202505-b.png
END:VEVENT
BEGIN:VEVENT
DTSTART;TZID=America/New_York:20260625T200000
DTEND;TZID=America/New_York:20260625T223000
DTSTAMP:20260421T044335
CREATED:20251120T212522Z
LAST-MODIFIED:20251120T212522Z
UID:16838-1782417600-1782426600@chapelstreetplayers.org
SUMMARY:Rock of Ages
DESCRIPTION:It’s the tail end of the big\, bad 1980s in Hollywood\, and the party has been raging hard. Aqua Net\, Lycra\, lace and liquor flow freely at one of the Sunset Strip’s last legendary venues\, a place where sex machine Stacee Jaxx takes the stage and scantily clad groupies line up to turn their fantasies into reality. Amidst the madness\, aspiring rock star (and resident toilet cleaner) Drew longs to take the stage as the next big thing (and longs for small-town girl Sherri\, fresh off the bus from Kansas with stars in her eyes). But the rock ’n’ roll fairy tale is about to end when German developers sweep into town with plans to turn the fabled Strip into just another capitalist strip mall. Can Drew\, Sherri and the gang save the strip – and themselves – before it’s too late? Only the music of hit bands Styx\, Journey\, Bon Jovi\, Whitesnake and more hold the answer.
URL:https://chapelstreetplayers.org/event/rock-of-ages-7/
LOCATION:Chapel Street Players\, 643 Creek view Rd.\, Newark\, 19711\, United States
CATEGORIES:CSP Production,Fundraiser
ATTACH;FMTTYPE=image/png:https://chapelstreetplayers.org/wp-content/uploads/2025/11/202505-b.png
END:VEVENT
BEGIN:VEVENT
DTSTART;TZID=America/New_York:20260626T200000
DTEND;TZID=America/New_York:20260626T223000
DTSTAMP:20260421T044335
CREATED:20251120T212524Z
LAST-MODIFIED:20251120T212524Z
UID:16839-1782504000-1782513000@chapelstreetplayers.org
SUMMARY:Rock of Ages
DESCRIPTION:It’s the tail end of the big\, bad 1980s in Hollywood\, and the party has been raging hard. Aqua Net\, Lycra\, lace and liquor flow freely at one of the Sunset Strip’s last legendary venues\, a place where sex machine Stacee Jaxx takes the stage and scantily clad groupies line up to turn their fantasies into reality. Amidst the madness\, aspiring rock star (and resident toilet cleaner) Drew longs to take the stage as the next big thing (and longs for small-town girl Sherri\, fresh off the bus from Kansas with stars in her eyes). But the rock ’n’ roll fairy tale is about to end when German developers sweep into town with plans to turn the fabled Strip into just another capitalist strip mall. Can Drew\, Sherri and the gang save the strip – and themselves – before it’s too late? Only the music of hit bands Styx\, Journey\, Bon Jovi\, Whitesnake and more hold the answer.
URL:https://chapelstreetplayers.org/event/rock-of-ages-8/
LOCATION:Chapel Street Players\, 643 Creek view Rd.\, Newark\, 19711\, United States
CATEGORIES:CSP Production,Fundraiser
ATTACH;FMTTYPE=image/png:https://chapelstreetplayers.org/wp-content/uploads/2025/11/202505-b.png
END:VEVENT
BEGIN:VEVENT
DTSTART;TZID=America/New_York:20260627T200000
DTEND;TZID=America/New_York:20260627T223000
DTSTAMP:20260421T044335
CREATED:20251120T212526Z
LAST-MODIFIED:20251120T212526Z
UID:16840-1782590400-1782599400@chapelstreetplayers.org
SUMMARY:Rock of Ages
DESCRIPTION:It’s the tail end of the big\, bad 1980s in Hollywood\, and the party has been raging hard. Aqua Net\, Lycra\, lace and liquor flow freely at one of the Sunset Strip’s last legendary venues\, a place where sex machine Stacee Jaxx takes the stage and scantily clad groupies line up to turn their fantasies into reality. Amidst the madness\, aspiring rock star (and resident toilet cleaner) Drew longs to take the stage as the next big thing (and longs for small-town girl Sherri\, fresh off the bus from Kansas with stars in her eyes). But the rock ’n’ roll fairy tale is about to end when German developers sweep into town with plans to turn the fabled Strip into just another capitalist strip mall. Can Drew\, Sherri and the gang save the strip – and themselves – before it’s too late? Only the music of hit bands Styx\, Journey\, Bon Jovi\, Whitesnake and more hold the answer.
URL:https://chapelstreetplayers.org/event/rock-of-ages-9/
LOCATION:Chapel Street Players\, 643 Creek view Rd.\, Newark\, 19711\, United States
CATEGORIES:CSP Production,Fundraiser
ATTACH;FMTTYPE=image/png:https://chapelstreetplayers.org/wp-content/uploads/2025/11/202505-b.png
END:VEVENT
BEGIN:VEVENT
DTSTART;TZID=America/New_York:20260706T153000
DTEND;TZID=America/New_York:20260710T183000
DTSTAMP:20260421T044335
CREATED:20260421T013058Z
LAST-MODIFIED:20260421T014127Z
UID:17057-1783351800-1783708200@chapelstreetplayers.org
SUMMARY:Summer Camp: Movie & TV Acting
DESCRIPTION:Ever wanted to be on TV or even in the movies on a gigantic screen in a real theater? This is your chance to act in a TV show and Movie that campers will create at a new location at Newark’s state- of- the -art Chapel Street Players Performing Arts Theater. Work together on different projects such as creating a short movie script\, a comedy show\, a music video\, a game show\, a commercial and then perform them while learning camera techniques to film the production. Imagination and creativity as well as acting skills abound as you interact to produce an award-winning production. Campers will observe a “work in progress” each day. \nFamily and friends can watch the camper’s original production on the big screen in a star-studded film fest at Chapel Street Theater on Friday at 5:30 p.m.
URL:https://chapelstreetplayers.org/event/summer-camp-movie-tv-acting/
LOCATION:Chapel Street Players\, 643 Creek view Rd.\, Newark\, 19711\, United States
CATEGORIES:Partnered Events
ATTACH;FMTTYPE=image/png:https://chapelstreetplayers.org/wp-content/uploads/2026/04/img404.png
ORGANIZER;CN="Newark Park & Recreation":MAILTO:parksrec@newark.de.us
END:VEVENT
BEGIN:VEVENT
DTSTART;TZID=America/New_York:20260720T153000
DTEND;TZID=America/New_York:20260724T183000
DTSTAMP:20260421T044335
CREATED:20260421T013058Z
LAST-MODIFIED:20260421T014216Z
UID:17058-1784561400-1784917800@chapelstreetplayers.org
SUMMARY:Summer Camp: Curtains Up
DESCRIPTION:The excitement of performing on a real stage at the new state-of-the-art Chapel Street Players Performing Arts Theater will be a memorable experience for campers. Be a part of our popular stage acting camp\, Curtain’s Up\, and perform a popular scripted play at the end of the week. Campers will learn how to develop characters\, perform scenes\, and interact with others as they work towards their final stage production. Our actors will learn projection\, stage movement\, listening skills\, and characterizations\, as well as other acting techniques needed for the stage. What a wonderful opportunity for young performers. \nA fully scripted stage performance will be given for family and friends on Friday at 5:30 p.m. Curtain’s Going Up!
URL:https://chapelstreetplayers.org/event/summer-camp-curtain-up/
LOCATION:Chapel Street Players\, 643 Creek view Rd.\, Newark\, 19711\, United States
CATEGORIES:Partnered Events
ATTACH;FMTTYPE=image/png:https://chapelstreetplayers.org/wp-content/uploads/2026/04/img404.png
ORGANIZER;CN="Newark Park & Recreation":MAILTO:parksrec@newark.de.us
END:VEVENT
BEGIN:VEVENT
DTSTART;TZID=America/New_York:20260803T153000
DTEND;TZID=America/New_York:20260807T183000
DTSTAMP:20260421T044335
CREATED:20260421T013059Z
LAST-MODIFIED:20260421T013504Z
UID:17059-1785771000-1786127400@chapelstreetplayers.org
SUMMARY:Summer Camp: Stars on Stage
DESCRIPTION:Can you imagine the thrill of performing live comedy skits and sketches on a real theater stage?  Do you like to be funny? Do you want to improvise and perform unscripted? This camp is for you as we learn how to perform and create comedy through improvisation\, comedy skits and sketches\, theater games\, and to think on our feet and act spontaneously. Make friends\, have fun\, and learn how to perform on stage and become a “Star on Stage” on the stage at Chapel Street Players Performing Arts Theater!  \nFamily and friends will be treated to a live interactive comedy performance on Friday at 5:30 p.m.    
URL:https://chapelstreetplayers.org/event/summer-camp-stars-on-stage/
LOCATION:Chapel Street Players\, 643 Creek view Rd.\, Newark\, 19711\, United States
CATEGORIES:Partnered Events
ATTACH;FMTTYPE=image/png:https://chapelstreetplayers.org/wp-content/uploads/2026/04/img404.png
ORGANIZER;CN="Newark Park & Recreation":MAILTO:parksrec@newark.de.us
END:VEVENT
END:VCALENDAR