BEGIN:VCALENDAR
VERSION:2.0
PRODID:-//Chapel Street Players - ECPv6.11.2//NONSGML v1.0//EN
CALSCALE:GREGORIAN
METHOD:PUBLISH
X-WR-CALNAME:Chapel Street Players
X-ORIGINAL-URL:https://chapelstreetplayers.org
X-WR-CALDESC:Events for Chapel Street Players
REFRESH-INTERVAL;VALUE=DURATION:PT1H
X-Robots-Tag:noindex
X-PUBLISHED-TTL:PT1H

BEGIN:VEVENT
DTSTART;TZID=America/New_York:20250920T200000
DTEND;TZID=America/New_York:20250920T223000
DTSTAMP:20260421T124659
CREATED:20250907T005023Z
LAST-MODIFIED:20250907T005119Z
UID:16628-1758398400-1758407400@chapelstreetplayers.org
SUMMARY:August: Osage County
DESCRIPTION:A missing father\, a pill-popping mother and three sisters harboring dubious little secrets. When the large Weston family unexpectedly reunites after Dad disappears\, their Oklahoma family homestead explodes in a maelstrom of repressed truths and unsettling mysteries. Mix in Violet\, the drugged-up\, scathingly acidic matriarch\, and you’ve got a major play that unflinchingly—and uproariously—exposes the dark side of the Midwestern American family.\nContent Advisory: August: Osage County contains strong language and mature subject matter\, including themes of alcoholism\, addiction\, abuse\, violence\, and family conflict.
URL:https://chapelstreetplayers.org/event/august-osage-county-2/
LOCATION:Chapel Street Players\, 643 Creek view Rd.\, Newark\, 19711\, United States
CATEGORIES:CSP Productions
ATTACH;FMTTYPE=image/png:https://chapelstreetplayers.org/wp-content/uploads/2025/09/2025-B01.png
END:VEVENT
BEGIN:VEVENT
DTSTART;TZID=America/New_York:20250919T200000
DTEND;TZID=America/New_York:20250919T223000
DTSTAMP:20260421T124659
CREATED:20250905T211537Z
LAST-MODIFIED:20250906T205529Z
UID:16615-1758312000-1758321000@chapelstreetplayers.org
SUMMARY:August: Osage County
DESCRIPTION:A missing father\, a pill-popping mother and three sisters harboring dubious little secrets. When the large Weston family unexpectedly reunites after Dad disappears\, their Oklahoma family homestead explodes in a maelstrom of repressed truths and unsettling mysteries. Mix in Violet\, the drugged-up\, scathingly acidic matriarch\, and you’ve got a major play that unflinchingly—and uproariously—exposes the dark side of the Midwestern American family. \nContent Advisory: August: Osage County contains strong language and mature subject matter\, including themes of alcoholism\, addiction\, abuse\, violence\, and family conflict.
URL:https://chapelstreetplayers.org/event/august-osage-county/
LOCATION:Chapel Street Players\, 643 Creek view Rd.\, Newark\, 19711\, United States
CATEGORIES:CSP Productions
ATTACH;FMTTYPE=image/png:https://chapelstreetplayers.org/wp-content/uploads/2025/09/2025-B01.png
END:VEVENT
BEGIN:VEVENT
DTSTART;TZID=America/New_York:20250523T190000
DTEND;TZID=America/New_York:20250523T210000
DTSTAMP:20260421T124659
CREATED:20250408T200718Z
LAST-MODIFIED:20250409T154128Z
UID:16415-1748026800-1748034000@chapelstreetplayers.org
SUMMARY:Cab
DESCRIPTION:Content is protected.
URL:https://chapelstreetplayers.org/event/cab/
LOCATION:Chapel Street Players\, 643 Creek view Rd.\, Newark\, 19711\, United States
CATEGORIES:Sponsor
END:VEVENT
BEGIN:VEVENT
DTSTART;VALUE=DATE:20250409
DTEND;VALUE=DATE:20250410
DTSTAMP:20260421T124659
CREATED:20250409T160701Z
LAST-MODIFIED:20250409T160701Z
UID:16435-1744156800-1744243199@chapelstreetplayers.org
SUMMARY:test
DESCRIPTION:Content is protected.
URL:https://chapelstreetplayers.org/event/test-2/
LOCATION:Chapel Street Players\, 643 Creek view Rd.\, Newark\, 19711\, United States
END:VEVENT
BEGIN:VEVENT
DTSTART;TZID=America/New_York:20260421T124659
DTEND;TZID=America/New_York:20260421T124659
DTSTAMP:20260421T124659
CREATED:20260122T150045Z
LAST-MODIFIED:20260122T151240Z
UID:16950-0-0@chapelstreetplayers.org
SUMMARY:Auditions - Rock of Ages
DESCRIPTION:Show Dates: 6/12\, 13\, 19\, 20\, 25\, 26\, 27 @ 8pm & 6/14\, 21 @ 2pm \nChapel Street Players seeks dynamic actors\, singers\, and dancers for their spectacular season-closing production of Rock of Ages. The story follows Sherrie\, a small-town girl\, and Drew\, a city boy\, who meet on the Sunset Strip while chasing their Hollywood dreams. They join the fight to save the legendary Bourbon Room from greedy German developers who want to turn the iconic rock-and-roll landmark into a strip mall. The narrative is powered by a high-octane score of 80s anthems from bands like Journey\, Bon Jovi\, Def Leppard\, Poison\, and Whitesnake. \nAuditioners should come prepared with up to 32 bars of a song in the style of the show. Choose a selection that shows off your range and belting ability and bring sheet music for the accompanist or an instrumental track with your own speakers. Also be prepared for possible cold readings and wear comfortable clothes so that you are ready to move.
URL:https://chapelstreetplayers.org/event/auditions-rock-of-ages-2/
LOCATION:Chapel Street Players\, 643 Creek view Rd.\, Newark\, 19711\, United States
CATEGORIES:CSP Productions
ATTACH;FMTTYPE=image/png:https://chapelstreetplayers.org/wp-content/uploads/2025/11/202505-b.png
END:VEVENT
BEGIN:VEVENT
DTSTART;TZID=America/New_York:20260421T124659
DTEND;TZID=America/New_York:20260421T124659
DTSTAMP:20260421T124659
CREATED:20260122T144317Z
LAST-MODIFIED:20260122T145517Z
UID:16941-0-0@chapelstreetplayers.org
SUMMARY:Auditions :: Rock of Ages
DESCRIPTION:Show Dates: 6/12\, 13\, 19\, 20\, 25\, 26\, 27 @ 8pm & 6/14\, 21 @ 2pm \nChapel Street Players seeks dynamic actors\, singers\, and dancers for their spectacular season-closing production of Rock of Ages. The story follows Sherrie\, a small-town girl\, and Drew\, a city boy\, who meet on the Sunset Strip while chasing their Hollywood dreams. They join the fight to save the legendary Bourbon Room from greedy German developers who want to turn the iconic rock-and-roll landmark into a strip mall. The narrative is powered by a high-octane score of 80s anthems from bands like Journey\, Bon Jovi\, Def Leppard\, Poison\, and Whitesnake. \nAuditioners should come prepared with up to 32 bars of a song in the style of the show. Choose a selection that shows off your range and belting ability and bring sheet music for the accompanist or an instrumental track with your own speakers. Also be prepared for possible cold readings and wear comfortable clothes so that you are ready to move.
URL:https://chapelstreetplayers.org/event/auditions-rock-of-ages/
LOCATION:Chapel Street Players\, 643 Creek view Rd.\, Newark\, 19711\, United States
CATEGORIES:CSP Productions
ATTACH;FMTTYPE=image/png:https://chapelstreetplayers.org/wp-content/uploads/2025/11/202505-b.png
END:VEVENT
END:VCALENDAR