BEGIN:VCALENDAR
VERSION:2.0
PRODID:-//Chapel Street Players - ECPv6.11.2//NONSGML v1.0//EN
CALSCALE:GREGORIAN
METHOD:PUBLISH
X-ORIGINAL-URL:https://chapelstreetplayers.org
X-WR-CALDESC:Events for Chapel Street Players
REFRESH-INTERVAL;VALUE=DURATION:PT1H
X-Robots-Tag:noindex
X-PUBLISHED-TTL:PT1H
BEGIN:VTIMEZONE
TZID:America/New_York
BEGIN:DAYLIGHT
TZOFFSETFROM:-0500
TZOFFSETTO:-0400
TZNAME:EDT
DTSTART:20260308T070000
END:DAYLIGHT
BEGIN:STANDARD
TZOFFSETFROM:-0400
TZOFFSETTO:-0500
TZNAME:EST
DTSTART:20261101T060000
END:STANDARD
END:VTIMEZONE
BEGIN:VEVENT
DTSTART;TZID=America/New_York:20260502T190000
DTEND;TZID=America/New_York:20260502T190000
DTSTAMP:20260421T011916
CREATED:20260416T144736Z
LAST-MODIFIED:20260416T145620Z
UID:17035-1777748400-1777748400@chapelstreetplayers.org
SUMMARY:"The Horn\," a staged reading
DESCRIPTION:Batten down the hatches! “The Horn” is coming to Chapel Street Players on May 2nd and 3rd. This will be a staged reading\, followed by a talkback\, of a brand new play that is a gothic horror on a ship. And yes\, there will be plenty of sea shanties to go around. See a short description below: Irish Captain Reeve just wants to make it safely around Cape Horn\, but ghosts of his failed past continue to torment him. He must push his haunts behind him\, lest he doom his cursed crew. We look forward to seeing you the first weekend of May. But beware! The sounds of the ocean toll different at night . . . \nHeadline: ⚓️ Years in development… a new haunting arrives at CSP. \nBatten down the hatches! After years of refinement\, “The Horn” is finally ready for its first public reading on May 2nd and 3rd. \nThis is an immersive dive into the psychological toll of the high seas. Expect: \n• 🎶 Rhythmic Sea Shanties: The heartbeat of a crew battling the waves. \n• 🕯️ Gothic Horror: A “cabin fever” thriller where the ghosts of the past are as real as the storms outside. \n• 🧠 A Creative Inside Look: This staged reading is the final “stress test” before the play’s World Premiere at CSP. \nWhy we need you: A script only truly comes to life when an audience hears it. Your reactions and your feedback during our post-show talkback will help us navigate the final path to production. \nCome help us bring a new classic to life. But beware… the sounds of the ocean toll different at night. 🌊
URL:https://chapelstreetplayers.org/event/the-horn-a-staged-reading-2/
LOCATION:Chapel Street Players\, 643 Creek view Rd.\, Newark\, 19711\, United States
CATEGORIES:CSP Productions,Special Project
ATTACH;FMTTYPE=image/jpeg:https://chapelstreetplayers.org/wp-content/uploads/2026/04/The-Horn-Staged-Reading-Graphic-Signature-Garrett.jpg
END:VEVENT
BEGIN:VEVENT
DTSTART;TZID=America/New_York:20260503T140000
DTEND;TZID=America/New_York:20260503T140000
DTSTAMP:20260421T011916
CREATED:20260416T144710Z
LAST-MODIFIED:20260416T145614Z
UID:17036-1777816800-1777816800@chapelstreetplayers.org
SUMMARY:"The Horn\," a staged reading
DESCRIPTION:Batten down the hatches! “The Horn” is coming to Chapel Street Players on May 2nd and 3rd. This will be a staged reading\, followed by a talkback\, of a brand new play that is a gothic horror on a ship. And yes\, there will be plenty of sea shanties to go around. See a short description below: Irish Captain Reeve just wants to make it safely around Cape Horn\, but ghosts of his failed past continue to torment him. He must push his haunts behind him\, lest he doom his cursed crew. We look forward to seeing you the first weekend of May. But beware! The sounds of the ocean toll different at night . . . \nHeadline: ⚓️ Years in development… a new haunting arrives at CSP. \nBatten down the hatches! After years of refinement\, “The Horn” is finally ready for its first public reading on May 2nd and 3rd. \nThis is an immersive dive into the psychological toll of the high seas. Expect: \n• 🎶 Rhythmic Sea Shanties: The heartbeat of a crew battling the waves. \n• 🕯️ Gothic Horror: A “cabin fever” thriller where the ghosts of the past are as real as the storms outside. \n• 🧠 A Creative Inside Look: This staged reading is the final “stress test” before the play’s World Premiere at CSP. \nWhy we need you: A script only truly comes to life when an audience hears it. Your reactions and your feedback during our post-show talkback will help us navigate the final path to production. \nCome help us bring a new classic to life. But beware… the sounds of the ocean toll different at night. 🌊
URL:https://chapelstreetplayers.org/event/the-horn-a-staged-reading/
LOCATION:Chapel Street Players\, 643 Creek view Rd.\, Newark\, 19711\, United States
CATEGORIES:CSP Productions,Special Project
ATTACH;FMTTYPE=image/jpeg:https://chapelstreetplayers.org/wp-content/uploads/2026/04/The-Horn-Staged-Reading-Graphic-Signature-Garrett.jpg
END:VEVENT
BEGIN:VEVENT
DTSTART;TZID=America/New_York:20260509T120000
DTEND;TZID=America/New_York:20260509T140000
DTSTAMP:20260421T011916
CREATED:20260122T151245Z
LAST-MODIFIED:20260122T175848Z
UID:16960-1778328000-1778335200@chapelstreetplayers.org
SUMMARY:First State Ringers Modern Rock Concert
DESCRIPTION:Join the First State Ringers for an afternoon concert of modern rock! First State Ringers is an advanced handbell choir affiliated with Newark United Methodist Church in Newark\, Delaware. Their mission is to introduce audiences to the varied repertoire of handbell music since\, contrary to popular belief\, handbells are not solely used for ringing holiday music. They are an auditioned group performing throughout the New Castle County and Cecil County areas. For more information\, visit firststateringers.org.
URL:https://chapelstreetplayers.org/event/first-state-ringers-modern-rock-concert/
LOCATION:Chapel Street Players\, 643 Creek view Rd.\, Newark\, 19711\, United States
CATEGORIES:Concerts,Partnered Events
ATTACH;FMTTYPE=image/jpeg:https://chapelstreetplayers.org/wp-content/uploads/2026/01/FSRinger.jpg
END:VEVENT
BEGIN:VEVENT
DTSTART;TZID=America/New_York:20260509T193000
DTEND;TZID=America/New_York:20260509T193000
DTSTAMP:20260421T011916
CREATED:20260416T143545Z
LAST-MODIFIED:20260416T145039Z
UID:17027-1778355000-1778355000@chapelstreetplayers.org
SUMMARY:The Forgetful Squirrels present: Mother MAY We?
DESCRIPTION:Looking for the perfect Mother’s Day treat that doesn’t involve a crowded brunch? Join the Forgetful Squirrels for our special improv show: “Mother May We?” We’re serving up high-energy laughs\, family-friendly fun\, and scenes inspired entirely by YOU (and maybe your mom’s favorite catchphrases). Don’t forget to bring the leading lady in your life! \nTickets: $15 ($7.50 for Mom!)
URL:https://chapelstreetplayers.org/event/the-forgetful-squirrels-present-mother-may-we-the-forgetful-squirrels-invite-you-to-bring-mom-for-a-hilarious-evening-of-totally-made-up-comedy-one-night-onlyexe/
LOCATION:Chapel Street Players\, 643 Creek view Rd.\, Newark\, 19711\, United States
CATEGORIES:Partnered Events
ATTACH;FMTTYPE=image/png:https://chapelstreetplayers.org/wp-content/uploads/2026/04/Banner.png
ORGANIZER;CN="The Forgetful Squirrels Improv":MAILTO:forgetfulsquirrels@gmail.com
END:VEVENT
BEGIN:VEVENT
DTSTART;TZID=America/New_York:20260520T190000
DTEND;TZID=America/New_York:20260520T200000
DTSTAMP:20260421T011916
CREATED:20260122T151300Z
LAST-MODIFIED:20260122T175856Z
UID:16961-1779303600-1779307200@chapelstreetplayers.org
SUMMARY:Copeland String Quartet
DESCRIPTION:The Copeland String Quartet\, comprised of violinists Eliezer Gutman and Lisa Vaupel\, violist Elizabeth Jaffe\, and cellist Jennifer Jie Jin\, will present a recital of music drawing from the vast treasure trove of works written for string quartet.
URL:https://chapelstreetplayers.org/event/copeland-string-quartet/
LOCATION:Chapel Street Players\, 643 Creek view Rd.\, Newark\, 19711\, United States
CATEGORIES:Concerts,Partnered Events
ATTACH;FMTTYPE=image/jpeg:https://chapelstreetplayers.org/wp-content/uploads/2026/01/Copeland.jpg
END:VEVENT
END:VCALENDAR